BEGIN:VCALENDAR
VERSION:2.0
PRODID:-//eventon.com NONSGML v1.0//EN
BEGIN:VEVENT
UID:69ec97040d113
DTSTAMP:20260425T122716
DTSTART:20220402T160000Z
DTEND:20220402T215000Z
TZID:Europe/Brussels
LOCATION:Café Bij Frits Kuringersteenweg 173
SUMMARY:Sporting Hasselt - City Pirates Antwerpen
DESCRIPTION: Voor en na de wedstrijd Ambiance met discobar bij Café Frits! Iedereen Welkom!\nhttps://www.cafefrits.be/events/sporting-hasselt-city-pirates-antwerpen/
URL:https://www.cafefrits.be/events/sporting-hasselt-city-pirates-antwerpen/
END:VEVENT
END:VCALENDAR